BEGIN:VCALENDAR
VERSION:2.0
PRODID:-//eventon.com NONSGML v1.0//EN
CALSCALE:GREGORIAN
METHOD:PUBLISH
BEGIN:VEVENT
UID:69e4e3f785d99
DTSTAMP:20260419T141727Z
DTSTART:20260714T170000Z
DTEND:20260714T190000Z
LOCATION:Lordington Lavender
SUMMARY:2 SPACES LEFT - Lavender Dreams Photoshoot
DESCRIPTION:Imagine walking through fields of purple bloom &#8211; the air 
 filled with the soothing scent of lavender\,  sunlight spilling golden acro
 ss the horizon\,  and the gentle hum of summer all around you. This isn’t
  just a photoshoot\,  it’s a soul-soothing afternoon of slowing down\,  f
 eeling free\,  and allowing yourself to[..]\nhttps://libertyphotography.co.
 uk/events-page/lavender-dreams-photoshoot/
URL:https://libertyphotography.co.uk/events-page/lavender-dreams-photoshoot/
END:VEVENT
END:VCALENDAR